BEGIN:VCALENDAR
VERSION:2.0
PRODID:spatie/icalendar-generator
DESCRIPTION:Events from Mary E. Seymour Memorial Free Library
X-WR-CALDESC:Events from Mary E. Seymour Memorial Free Library
REFRESH-INTERVAL;VALUE=DURATION:PT1440M
X-PUBLISHED-TTL:PT1440M
BEGIN:VTIMEZONE
TZID:America/New_York
BEGIN:STANDARD
DTSTART:20251102T020000Z
TZOFFSETFROM:-0400
TZOFFSETTO:-0500
END:STANDARD
BEGIN:DAYLIGHT
DTSTART:20260308T020000Z
TZOFFSETFROM:-0500
TZOFFSETTO:-0400
END:DAYLIGHT
END:VTIMEZONE
BEGIN:VTIMEZONE
TZID:UTC
BEGIN:STANDARD
DTSTART:20250726T151553Z
TZOFFSETFROM:+0000
TZOFFSETTO:+0000
END:STANDARD
END:VTIMEZONE
BEGIN:VEVENT
UID:43-32
DTSTAMP:20260422T151553Z
SUMMARY:Make a scrapbook for the Library Memory Care Kits
LOCATION:
ORGANIZER;CN=Library Webmaster:MAILTO:director@stocktonlibraries.org
DTSTART;TZID=America/New_York:20260429T140000
DTEND;TZID=America/New_York:20260429T160000
X-ALT-DESC;FMTTYPE=TEXT/HTML:<p>The Seymour Library Cassadaga Branch is hol
 ding an event on Wednesday\, April 29th at 2 pm. We are asking local peopl
 e to help us fill themed scrapbooks with images of Cities around the world
 \, gardens/food preparation\, celebrities or well-known people\, holidays/
 celebrations\, forms of transportation such as boats\, cars\, bikes\, etc.
  We will be adding these scrapbooks to our memory care kits that patrons c
 an use at the Library or check out. This is part of our ongoing Alzheimer'
 s programming and support initiatives. Supplies will be provided\, but if 
 anyone would like to bring relevant media such as magazines or old cookboo
 ks\, we are happy to incorporate the images.</p>\n
CATEGORIES:General,  Community Resources,  Craft,  Alzheimer\'s Event
URL;VALUE=URI:https://stocktonlibraries.org/mc-events/make-a-scrapbook-for-
 the-library-memory-care-kits/
METHOD:PUBLISH
END:VEVENT
END:VCALENDAR